BEGIN:VCALENDAR
VERSION:2.0
PRODID:-//Storyhost.org - ECPv6.15.20//NONSGML v1.0//EN
CALSCALE:GREGORIAN
METHOD:PUBLISH
X-ORIGINAL-URL:https://storyhost.org
X-WR-CALDESC:Events for Storyhost.org
REFRESH-INTERVAL;VALUE=DURATION:PT1H
X-Robots-Tag:noindex
X-PUBLISHED-TTL:PT1H
BEGIN:VTIMEZONE
TZID:America/Los_Angeles
BEGIN:DAYLIGHT
TZOFFSETFROM:-0800
TZOFFSETTO:-0700
TZNAME:PDT
DTSTART:20240310T100000
END:DAYLIGHT
BEGIN:STANDARD
TZOFFSETFROM:-0700
TZOFFSETTO:-0800
TZNAME:PST
DTSTART:20241103T090000
END:STANDARD
BEGIN:DAYLIGHT
TZOFFSETFROM:-0800
TZOFFSETTO:-0700
TZNAME:PDT
DTSTART:20250309T100000
END:DAYLIGHT
BEGIN:STANDARD
TZOFFSETFROM:-0700
TZOFFSETTO:-0800
TZNAME:PST
DTSTART:20251102T090000
END:STANDARD
BEGIN:DAYLIGHT
TZOFFSETFROM:-0800
TZOFFSETTO:-0700
TZNAME:PDT
DTSTART:20260308T100000
END:DAYLIGHT
BEGIN:STANDARD
TZOFFSETFROM:-0700
TZOFFSETTO:-0800
TZNAME:PST
DTSTART:20261101T090000
END:STANDARD
END:VTIMEZONE
BEGIN:VTIMEZONE
TZID:America/Los_Angeles
BEGIN:DAYLIGHT
TZOFFSETFROM:-0800
TZOFFSETTO:-0700
TZNAME:PDT
DTSTART:20240310T100000
END:DAYLIGHT
BEGIN:STANDARD
TZOFFSETFROM:-0700
TZOFFSETTO:-0800
TZNAME:PST
DTSTART:20241103T090000
END:STANDARD
BEGIN:DAYLIGHT
TZOFFSETFROM:-0800
TZOFFSETTO:-0700
TZNAME:PDT
DTSTART:20250309T100000
END:DAYLIGHT
BEGIN:STANDARD
TZOFFSETFROM:-0700
TZOFFSETTO:-0800
TZNAME:PST
DTSTART:20251102T090000
END:STANDARD
BEGIN:DAYLIGHT
TZOFFSETFROM:-0800
TZOFFSETTO:-0700
TZNAME:PDT
DTSTART:20260308T100000
END:DAYLIGHT
BEGIN:STANDARD
TZOFFSETFROM:-0700
TZOFFSETTO:-0800
TZNAME:PST
DTSTART:20261101T090000
END:STANDARD
END:VTIMEZONE
BEGIN:VEVENT
DTSTART;TZID=America/Los_Angeles:20250313T090000
DTEND;TZID=America/Los_Angeles:20250313T100000
DTSTAMP:20260423T150247
CREATED:20250131T211956Z
LAST-MODIFIED:20250228T155631Z
UID:221-1741856400-1741860000@storyhost.org
SUMMARY:Story Work and the Current Crisis
DESCRIPTION:Join StoryCenter founder Joe Lambert and special guests to discuss the ways in which story and story work are necessary parts of our response to the evolving policies of the current federal administration.
URL:https://storyhost.org/event/story-work-and-the-current-crisis/
LOCATION:Online\, Online\, CA\, United States
END:VEVENT
BEGIN:VEVENT
DTSTART;TZID=America/Los_Angeles:20250306T070000
DTEND;TZID=America/Los_Angeles:20250306T090000
DTSTAMP:20260423T150247
CREATED:20241206T175226Z
LAST-MODIFIED:20250129T172951Z
UID:77-1741244400-1741251600@storyhost.org
SUMMARY:Bi-weekly Writer's Workshop
DESCRIPTION:Join Joe Lambert and Beth Jones for a two hour writing and sharing session on topics far and wide. \nNote: Once you RSVP\, you will be sent the zoom link 2 days prior to event.
URL:https://storyhost.org/event/bi-weekly-writers-workshop-4/
LOCATION:Online\, Online\, CA\, United States
END:VEVENT
BEGIN:VEVENT
DTSTART;TZID=America/Los_Angeles:20250206T070000
DTEND;TZID=America/Los_Angeles:20250206T090000
DTSTAMP:20260423T150247
CREATED:20241206T174400Z
LAST-MODIFIED:20250124T150526Z
UID:69-1738825200-1738832400@storyhost.org
SUMMARY:Bi-weekly Writer's Workshop
DESCRIPTION:Join Joe Lambert and Beth Jones for a two hour writing and sharing session on topics far and wide.
URL:https://storyhost.org/event/bi-weekly-writers-workshop-2/
LOCATION:Online\, Online\, CA\, United States
END:VEVENT
BEGIN:VEVENT
DTSTART;TZID=America/Los_Angeles:20250128T090000
DTEND;TZID=America/Los_Angeles:20250128T100000
DTSTAMP:20260423T150247
CREATED:20250122T203251Z
LAST-MODIFIED:20250127T175925Z
UID:135-1738054800-1738058400@storyhost.org
SUMMARY:"AI” & Storytelling: Agency\, Art\, and Algorithms
DESCRIPTION:Join StoryCenter and Mark Corbett Wilson\, Critical Digital Humanist and the Western Institute for Social Research’s Learning Experience Design\Technologian\, for a survey of Machine Learning (LLMs\, or\, AI) and a discussion of how we might use machines to augment personal storytelling\, research\, and learning.
URL:https://storyhost.org/event/ai-storytelling-agency-art-and-algorithms/
LOCATION:Online\, Online\, CA\, United States
END:VEVENT
BEGIN:VEVENT
DTSTART;TZID=America/Los_Angeles:20250123T070000
DTEND;TZID=America/Los_Angeles:20250123T090000
DTSTAMP:20260423T150247
CREATED:20241206T173830Z
LAST-MODIFIED:20241220T182914Z
UID:66-1737615600-1737622800@storyhost.org
SUMMARY:Bi-weekly Writer's Workshop
DESCRIPTION:Join Joe Lambert and Beth Jones for a two hour writing and sharing session on topics far and wide.
URL:https://storyhost.org/event/bi-weekly-writers-workshop/
LOCATION:Online\, Online\, CA\, United States
END:VEVENT
END:VCALENDAR